Workbook
Name 年号: [1]Sheet1!$B$2:$B$6

Sheet  (記入例)
B1: 技 術 職 員 有 資 格 者 名 簿 （建設工事）
C2: 記入例
C3: 商号又は名称 | D3: 株式会社○○○○
C4: 所在地区分 | D4: 市内
C6: 氏 名 | D6: 最 終 学 校 | F6: 法 令 に よ る 免 許 等 | M6: 業 務 経 歴 | P6: 経験年月数
D7: 学 校 の 種 類 | E7: 専 攻 学 科 | F7: 名 称 | G7: 取得年月日
B8: 1 | C8: ○○ 太郎 | D8: 大学 | E8: 建設学科 | F8: 監理技術者（土木） | G8: H | H8: 17 | I8: ・ | J8: 6 | K8: ・ | L8: 1 | M8: 現場監督・主任技術者 | Q8: 年 | S8: 月
B9: 2 | F9: 監理技術者（建築） | G9: H | H9: 17 | I9: ・ | J9: 2 | K9: ・ | L9: 15 | M9: 〃 | Q9: 年 | S9: 月
B10: 3 | F10: 1級土木施工管理技士 | G10: H | H10: 17 | I10: ・ | J10: 2 | K10: ・ | L10: 15 | M10: 〃 | Q10: 年 | S10: 月
B11: 4 | F11: 1級建築施工管理技士 | G11: H | H11: 17 | I11: ・ | J11: 6 | K11: ・ | L11: 1 | M11: 〃 | Q11: 年 | S11: 月
B12: 5 | C12: ○○ うる太 | D12: 専門学校 | E12: 測量 | F12: 2級土木施工管理技士 | G12: H | H12: 17 | I12: ・ | J12: 6 | K12: ・ | L12: 1 | M12: 現場監督・主任技術者 | Q12: 年 | S12: 月
B13: 6 | F13: 2級管工事施工管理技士 | G13: H | H13: 13 | I13: ・ | J13: 2 | K13: ・ | L13: 15 | M13: 〃 | Q13: 年 | S13: 月
B14: 7 | C14: ○○ 太一 | D14: 工業高校 | E14: 土木課 | F14: 測量士 | G14: H | H14: 15 | I14: ・ | J14: 2 | K14: ・ | L14: 15 | M14: 施工測量に従事 | Q14: 年 | S14: 月
B15: 8 | I15: ・ | K15: ・ | Q15: 年 | S15: 月
B16: 9 | I16: ・ | K16: ・ | Q16: 年 | S16: 月
B17: 10 | I17: ・ | K17: ・ | Q17: 年 | S17: 月
B19: 記 載 要 領
B20: １ 「学校の種類」の欄には、大学・高等専門学校・高等学校等の別を記載すること。
B21: ２ 「法令による免許等」の欄には、業務に関し法律又は命令による免許又は技術若しくは技能の認定を受けたものを記載すること。
B22: （ 例 ： 土木施工管理技士等で、１級と２級の資格を取得している場合は１級のみ記入）
B23: ３ 「業務経歴」の欄には、最近のものから記載し、純粋に建設業に従事した職種及び地位を記載すること（現場代理人、主任技術者、現場代理人補助など）。
B24: ４ 経験年数は建設工事に従事した実務経験年数を記入（資格取得は関係なく、実務経験で）

Sheet 技術職員有資格者名簿（建設コンサルタント）
B1: 技 術 職 員 有 資 格 者 名 簿 （測量及び建設コンサルタント）
C2: 商号又は名称
C3: 所在地区分
C5: 氏 名 | D5: 最 終 学 校 | F5: 法 令 に よ る 免 許 等 | M5: 業 務 経 歴 | P5: 経験年月数
D6: 学 校 の 種 類 | E6: 専 攻 学 科 | F6: 名 称 | G6: 取得年月日
B7: 1 | I7: ・ | K7: ・ | Q7: 年 | S7: 月 | T7: =IF(F7="","",IF(COUNTIF(保有資格者入力表!$C$1:$AP$1,F7)=0,"エラー",""))
B8: 2 | I8: ・ | K8: ・ | Q8: 年 | S8: 月 | T8: =IF(F8="","",IF(COUNTIF(保有資格者入力表!$C$1:$AP$1,F8)=0,"エラー",""))
B9: 3 | I9: ・ | K9: ・ | Q9: 年 | S9: 月 | T9: =IF(F9="","",IF(COUNTIF(保有資格者入力表!$C$1:$AP$1,F9)=0,"エラー",""))
B10: 4 | I10: ・ | K10: ・ | Q10: 年 | S10: 月 | T10: =IF(F10="","",IF(COUNTIF(保有資格者入力表!$C$1:$AP$1,F10)=0,"エラー",""))
B11: 5 | I11: ・ | K11: ・ | Q11: 年 | S11: 月 | T11: =IF(F11="","",IF(COUNTIF(保有資格者入力表!$C$1:$AP$1,F11)=0,"エラー",""))
B12: 6 | I12: ・ | K12: ・ | Q12: 年 | S12: 月 | T12: =IF(F12="","",IF(COUNTIF(保有資格者入力表!$C$1:$AP$1,F12)=0,"エラー",""))
B13: 7 | I13: ・ | K13: ・ | Q13: 年 | S13: 月 | T13: =IF(F13="","",IF(COUNTIF(保有資格者入力表!$C$1:$AP$1,F13)=0,"エラー",""))
B14: 8 | I14: ・ | K14: ・ | Q14: 年 | S14: 月 | T14: =IF(F14="","",IF(COUNTIF(保有資格者入力表!$C$1:$AP$1,F14)=0,"エラー",""))
B15: 9 | I15: ・ | K15: ・ | Q15: 年 | S15: 月 | T15: =IF(F15="","",IF(COUNTIF(保有資格者入力表!$C$1:$AP$1,F15)=0,"エラー",""))
B16: 10 | I16: ・ | K16: ・ | Q16: 年 | S16: 月 | T16: =IF(F16="","",IF(COUNTIF(保有資格者入力表!$C$1:$AP$1,F16)=0,"エラー",""))
B17: 11 | I17: ・ | K17: ・ | Q17: 年 | S17: 月 | T17: =IF(F17="","",IF(COUNTIF(保有資格者入力表!$C$1:$AP$1,F17)=0,"エラー",""))
B18: 12 | I18: ・ | K18: ・ | Q18: 年 | S18: 月 | T18: =IF(F18="","",IF(COUNTIF(保有資格者入力表!$C$1:$AP$1,F18)=0,"エラー",""))
... B306: 300 | I306: ・ | K306: ・ | Q306: 年 | S306: 月 | T306: =IF(F306="","",IF(COUNTIF(保有資格者入力表!$C$1:$AP$1,F306)=0,"エラー",""))
B308: 記 載 要 領
B309: １ 「学校の種類」の欄には、大学・高等専門学校・高等学校等の別を記載すること。
B310: ２ 「法令による免許等」の欄には、業務に関し法律又は命令による免許又は技術若しくは技能の認定を受けたものを記載すること。
B311: （ 例 ： 土木施工管理技士等で、１級と２級の資格を取得している場合は１級のみ記入）
B312: ３ 「業務経歴」の欄には、最近のものから記載し、純粋に建設業に従事した職種及び地位を記載すること（現場代理人、主任技術者、現場代理人補助など）。
B313: ４ 経験年数は建設工事に従事した実務経験年数を記入（資格取得は関係なく、実務経験で）

Sheet 保有資格者入力表
A1: 所在地 | B1: 業者名 | C1: 構造1級建築士 | D1: 設備設計１級建築士 | E1: １級建築士 | F1: ２級建築士 | G1: 木造建築士 | H1: 建築設備士 | I1: １級建築施工管理技士 | J1: １級建築施工管理技士補 | K1: ２級建築施工管理技士（建築） | L1: ２級建築施工管理技士（躯体） | M1: ２級建築施工管理技士（仕上げ） | N1: １級電気工事施工管理技士 | O1: １級電気工事施工管理技士補 | P1: ２級電気工事施工管理技士 | Q1: １級電気通信工事施工管理技士 | R1: １級電気通信工事施工管理技士補 | S1: ２級電気通信工事施工管理技士 | T1: １級管工事施工管理技士 | U1: １級管工事施工管理技士補 | V1: ２級管工事施工管理技士 | W1: 電気通信主任技術者 | X1: 第１種電気主任技術者 | Y1: 第２種電気主任技術者 | Z1: 第３種電気主任技術者 | AA1: 第１種電気工事士 | AB1: 第２種電気工事士 | AC1: 給水装置工事主任技術 | AD1: 技術士 総合技術監理部門 | AE1: 技術士 その他部門 | AF1: 甲種消防設備士特類 | AG1: 甲種消防設備士 | AH1: 乙種消防設備士 | AI1: 補償業務管理士 各部門 | AJ1: 建築コスト管理士 | AK1: 建築積算士 | AL1: 省エネ適合判定員資格 | AM1: 耐震診断資格者 | AN1: CASBEE（キャスビー）建築評価員 | AO1: 既存学校建物の耐力度測定実務講習修了 | AP1: コンクリート診断士 | AQ1: １級土木施工管理技士 | AR1: １級土木施工管理技士補 | AS1: ２級土木施工管理技士（土木） | AT1: ２級土木施工管理技士（鋼構造物塗装） | AU1: ２級土木施工管理技士（薬液注入） | AV1: １級建設機械施工管理技士 | AW1: １級建設機械施工管理技士補 | AX1: ２級建設機械施工管理技士 | AY1: １級造園施工管理技士 | AZ1: １級造園施工管理技士補 | BA1: ２級造園施工管理技士 | BB1: 測量士 | BC1: 測量士補 | BD1: 下水道検定１種 | BE1: 下水道検定２種 | BF1: 磁気探査技士 | BG1: RCCM 各部門 | BH1: 土地区画整理士 | BI1: 地質調査技士 | BJ1: 土木学会認定土木技術者
A2: ='技術職員有資格者名簿（建設コンサルタント）'!D3 -> 0 | B2: ='技術職員有資格者名簿（建設コンサルタント）'!D2 -> 0 | C2: =COUNTIF('技術職員有資格者名簿（建設コンサルタント）'!$F7:$F306,保有資格者入力表!C1) -> 0 | D2: =COUNTIF('技術職員有資格者名簿（建設コンサルタント）'!$F7:$F306,保有資格者入力表!D1) -> 0 | E2: =COUNTIF('技術職員有資格者名簿（建設コンサルタント）'!$F7:$F306,保有資格者入力表!E1) -> 0 | F2: =COUNTIF('技術職員有資格者名簿（建設コンサルタント）'!$F7:$F306,保有資格者入力表!F1) -> 0 | G2: =COUNTIF('技術職員有資格者名簿（建設コンサルタント）'!$F7:$F306,保有資格者入力表!G1) -> 0 | H2: =COUNTIF('技術職員有資格者名簿（建設コンサルタント）'!$F7:$F306,保有資格者入力表!H1) -> 0 | I2: =COUNTIF('技術職員有資格者名簿（建設コンサルタント）'!$F7:$F306,保有資格者入力表!I1) -> 0 | J2: =COUNTIF('技術職員有資格者名簿（建設コンサルタント）'!$F7:$F306,保有資格者入力表!J1) -> 0 | ... BJ2: =COUNTIF('技術職員有資格者名簿（建設コンサルタント）'!$F7:$F306,保有資格者入力表!BJ1) -> 0
